Workbook

Sheet 目次
B1: =IF(区入力シート!B3="","",区入力シート!B3&"プロポ様式") -> 練馬区公衆浴場活用事業プロポ様式
B3: 開くシート名をクリックしてください。
B4: シート名
A5: 事業者用入力シート | B5: 事業者用入力シート（入力用）
A6: 様式１参加表明届 | B6: =HYPERLINK("#'"&A6&"'!A1",A6) -> 様式１参加表明届
A7: 様式２辞退表明届 | B7: =HYPERLINK("#'"&A7&"'!A1",A7) -> 様式２辞退表明届
A8: 様式３質問票 | B8: =HYPERLINK("#'"&A8&"'!A1",A8) -> 様式３質問票
A9: 様式４応募申請書 | B9: =HYPERLINK("#'"&A9&"'!A1",A9) -> 様式４応募申請書
A10: 様式５事業者概要 | B10: =HYPERLINK("#'"&A10&"'!A1",A10) -> 様式５事業者概要
A11: 様式６受託実績 | B11: =HYPERLINK("#'"&A11&"'!A1",A11) -> 様式６受託実績
A12: 様式７提案書 | B12: =HYPERLINK("#'"&A12&"'!A1",A12) -> 様式７提案書
A13: 様式８見積書 | B13: 様式８実施体制
B14: 様式９見積書
B16: ※各シートの文言等を修正しないでください。

Sheet 区入力シート
B1: 入力欄 | C1: 注意事項 | E1: =HYPERLINK("#目次!A1","←目次へ戻る") -> ←目次へ戻る
A2: 年度 | B2: 令和９年度 | C2: 契約年度を選択してください。
A3: 事業名 | B3: 練馬区公衆浴場活用事業 | C3: 正確な事業名を入れてください。
A5: ※入力後、公開する前に本シートは必ず非表示にしてください。

Sheet リスト等
A2: 8 | B2: 1 | C2: 1 | D2: □ | E2: 令和９年度 | G2: 通所介護 | J2: 1
A3: 9 | B3: 2 | C3: 2 | D3: ☑ | E3: 令和１０年度 | G3: 通所型サービス | J3: 2
A4: 10 | B4: 3 | C4: 3 | E4: 令和１１年度 | F4: ="令和"&VALUE(SUBSTITUTE(SUBSTITUTE(区入力シート!$B$2,"令和",""),"年度",""))-ROW(B5)&"年度" -> 令和4年度 | G4: 高齢者の運動指導事業 | J4: 3
A5: 11 | B5: 4 | C5: 4 | E5: 令和１２年度 | F5: ="令和"&VALUE(SUBSTITUTE(SUBSTITUTE(区入力シート!$B$2,"令和",""),"年度",""))-ROW(B4)&"年度" -> 令和5年度 | J5: 4
A6: 12 | B6: 5 | C6: 5 | E6: 令和１３年度 | F6: ="令和"&VALUE(SUBSTITUTE(SUBSTITUTE(区入力シート!$B$2,"令和",""),"年度",""))-ROW(B3)&"年度" -> 令和6年度 | J6: 5
A7: 13 | B7: 6 | C7: 6 | E7: 令和１４年度 | F7: ="令和"&VALUE(SUBSTITUTE(SUBSTITUTE(区入力シート!$B$2,"令和",""),"年度",""))-ROW(B2)&"年度" -> 令和7年度 | J7: 6
A8: 14 | B8: 7 | C8: 7 | E8: 令和１５年度 | F8: ="令和"&VALUE(SUBSTITUTE(SUBSTITUTE(区入力シート!$B$2,"令和",""),"年度",""))-ROW(B1)&"年度" -> 令和8年度 | J8: 7
A9: 15 | B9: 8 | C9: 8 | E9: 令和１６年度 | J9: 8
A10: 16 | B10: 9 | C10: 9 | E10: 令和１７年度 | J10: 9
A11: 17 | B11: 10 | C11: 10 | E11: 令和１８年度 | J11: 10
A12: 18 | B12: 11 | C12: 11 | E12: 令和１９年度 | J12: 11
A13: 19 | B13: 12 | C13: 12 | E13: 令和２０年度 | J13: 12
A14: 20 | C14: 13 | E14: 令和２１年度 | J14: 13
C15: 14 | J15: 14
C16: 15 | J16: 15
C17: 16 | J17: 16
C18: 17 | J18: 17
C19: 18 | J19: 18
C20: 19 | J20: 19
C21: 20 | J21: 20
C22: 21 | J22: 21
C23: 22 | J23: 22
C24: 23 | J24: 23
C25: 24 | J25: 24
C26: 25 | J26: 25
... C32: 31 | J32: 31
J33: 32
J34: 33
J35: 34
J36: 35
J37: 36
J38: 37
J39: 38
J40: 39
J41: 40
J42: 41
J43: 42
J44: 43
... J101: 100

Sheet 事業者用入力シート（入力用）
E1: =HYPERLINK("#目次!A1","←目次へ戻る") -> ←目次へ戻る
C2: 入力欄
B3: 法人名
B4: 法人所在地
B5: 法人代表者名
B6: 事業者名
B7: 事業者の郵便番号
B8: 事業者の所在地
B9: 代表者職
B10: 代表者氏名
B11: （連絡先）担当者所属
B12: （連絡先）担当者職
B13: （連絡先）担当者氏名
B14: （連絡先）郵便番号
... B17: （連絡先）電子メール

Sheet 様式１参加表明届
U1: =HYPERLINK("#目次!A1","←目次へ戻る") -> ←目次へ戻る
L2: 令和 | N2: 年 | P2: 月 | R2: 日
B3: 練馬区長 殿
B5: =IF(区入力シート!B3="","【区入力シートにて事業名を入れてください】委託に係るプロポーザル参加表明届","「"&区入力シート!B3&"委託」に係るプロポーザル参加表明届") -> 「練馬区公衆浴場活用事業委託」に係るプロポーザル参加表明届
B7: =IF(区入力シート!B3=""," 以下の欠格条項に該当していないことおよび提出書類の記載事項に虚偽がないことを誓約し、【区入力シートにて事業名を入れてください】委託にかかるプロポーザルの参加を表明します。","以下の欠格条項に該当していないことおよび提出書類の記載事項に虚偽がないことを誓約し、"&"「"&区入力シート!B3&"委託」にかかるプロポーザルの参加を表明します。") -> 以下の欠格条項に該当していないことおよび提出書類の記載事項に虚偽がないことを誓約し、「練馬区公衆浴場活用事業委託」にかかるプロポーザルの参加を表明します。
B8: 事業者名 | F8: =IF('事業者用入力シート（入力用）'!C6="","",'事業者用入力シート（入力用）'!C6)
B9: 所在地 | F9: 〒 | G9: =IF('事業者用入力シート（入力用）'!C7="","",'事業者用入力シート（入力用）'!C7)
G10: =IF('事業者用入力シート（入力用）'!C8="","",'事業者用入力シート（入力用）'!C8)
B11: 代表者職・氏名 | F11: =IF('事業者用入力シート（入力用）'!C9="","",'事業者用入力シート（入力用）'!C9&" "&'事業者用入力シート（入力用）'!C10)
B12: 連絡先 | C12: 担当者職・氏名 | F12: =IF('事業者用入力シート（入力用）'!C12="","",'事業者用入力シート（入力用）'!C12&" "&'事業者用入力シート（入力用）'!C13)
C13: 所在地 | F13: 〒 | G13: =IF('事業者用入力シート（入力用）'!C14="","",'事業者用入力シート（入力用）'!C14)
G14: =IF('事業者用入力シート（入力用）'!C15="","",'事業者用入力シート（入力用）'!C15)
C15: 電話 | F15: =IF('事業者用入力シート（入力用）'!C16="","",'事業者用入力シート（入力用）'!C16)
C16: 電子メール | F16: =IF('事業者用入力シート（入力用）'!C17="","",'事業者用入力シート（入力用）'!C17)
B17: 欠格事項（右記の(1)～(4)のいずれかに該当している場合、応募はできません。） | F17: (1) 提案書提出時点において、「練馬区競争入札参加有資格者指名停止基準」(昭和61年４月1日練総経発第394号)による指名停止期間中である者
F18: (2) 「練馬区契約における暴力団等排除措置要綱」(平成22年８月２日22練総経第335号)による入札参加除外措置期間中である者
F19: (3) 法人事業税(地方法人特別税を含む)、法人税、消費税および地方消費税を滞納している者
F20: (4) 経営不振の状態(会社更生法(平成14年法律第154号)第17条第１項に基づき更生手続開始の申し立てをしたとき、民事再生法(平成11年法律第225号)第21条第１項に基づき再生手続開始の申し立てをしたとき、手形または小切手が不渡りなったとき等。ただし、区が経営不振の状況を脱したと認めた場合は除く。)にある者

Sheet 様式２辞退表明届
U1: =HYPERLINK("#目次!A1","←目次へ戻る") -> ←目次へ戻る
L2: 令和 | N2: 年 | P2: 月 | R2: 日
B3: 練馬区長 殿
B5: =IF(区入力シート!B3="","【区入力シートにて事業名を入れてください】委託に係るプロポーザル参加辞退届","「"&区入力シート!B3&"委託」に係るプロポーザル参加辞退届") -> 「練馬区公衆浴場活用事業委託」に係るプロポーザル参加辞退届
B7: =IF(区入力シート!B3="","【区入力シートにて事業名を入れてください】にかかるプロポーザルに参加を表明しましたが、以下の理由により辞退いたします。","「"&区入力シート!B3&"委託」にかかるプロポーザルに参加を表明しましたが、以下の理由により辞退いたします。") -> 「練馬区公衆浴場活用事業委託」にかかるプロポーザルに参加を表明しましたが、以下の理由により辞退いたします。
B8: 事業者名 | F8: =IF('事業者用入力シート（入力用）'!C6="","",'事業者用入力シート（入力用）'!C6)
B9: 所在地 | F9: 〒 | G9: =IF('事業者用入力シート（入力用）'!C7="","",'事業者用入力シート（入力用）'!C7)
G10: =IF('事業者用入力シート（入力用）'!C8="","",'事業者用入力シート（入力用）'!C8)
B11: 代表者職・氏名 | F11: =IF('事業者用入力シート（入力用）'!C9="","",'事業者用入力シート（入力用）'!C9&" "&'事業者用入力シート（入力用）'!C10)
B12: 連絡先 | C12: 担当者職・氏名 | F12: =IF('事業者用入力シート（入力用）'!C12="","",'事業者用入力シート（入力用）'!C12&" "&'事業者用入力シート（入力用）'!C13)
C13: 所在地 | F13: 〒 | G13: =IF('事業者用入力シート（入力用）'!C14="","",'事業者用入力シート（入力用）'!C14)
G14: =IF('事業者用入力シート（入力用）'!C15="","",'事業者用入力シート（入力用）'!C15)
C15: 電話 | F15: =IF('事業者用入力シート（入力用）'!C16="","",'事業者用入力シート（入力用）'!C16)
C16: 電子メール | F16: =IF('事業者用入力シート（入力用）'!C17="","",'事業者用入力シート（入力用）'!C17)
B17: 辞退の理由

Sheet 様式３質問票
U1: =HYPERLINK("#目次!A1","←目次へ戻る") -> ←目次へ戻る
L2: 令和 | N2: 年 | P2: 月 | R2: 日
B3: 練馬区長 殿
B5: =IF(区入力シート!B3="","【区入力シートにて事業名を入れてください】委託に係る質問票","「"&区入力シート!B3&"委託」に係る質問票") -> 「練馬区公衆浴場活用事業委託」に係る質問票
B7: =IF(区入力シート!B3="","【区入力シートにて事業名を入れてください】委託について、以下のとおり質問します。","「"&区入力シート!B3&"委託」について、以下のとおり質問します。") -> 「練馬区公衆浴場活用事業委託」について、以下のとおり質問します。
B8: 事業者名 | F8: =IF('事業者用入力シート（入力用）'!C6="","",'事業者用入力シート（入力用）'!C6)
B9: 担当者所属 | F9: =IF('事業者用入力シート（入力用）'!C11="","",'事業者用入力シート（入力用）'!C11)
B10: 担当者名 | F10: =IF('事業者用入力シート（入力用）'!C13="","",'事業者用入力シート（入力用）'!C13)
B11: 電話番号 | F11: =IF('事業者用入力シート（入力用）'!C16="","",'事業者用入力シート（入力用）'!C16)
B12: 電子メールアドレス | F12: =IF('事業者用入力シート（入力用）'!C17="","",'事業者用入力シート（入力用）'!C17)
B14: No | D14: 質問内容
B15: 1
B16: 2
B17: 3
B18: 4
B19: 5

Sheet 様式４応募申請書
W1: =HYPERLINK("#目次!A1","←目次へ戻る") -> ←目次へ戻る
O2: 令和 | Q2: 年 | S2: 月 | U2: 日
B3: 練馬区長 殿
K4: 【申請者】
K5: 法人所在地 | N5: =IF('事業者用入力シート（入力用）'!C4="","",'事業者用入力シート（入力用）'!C4)
K6: 法人名 | N6: =IF('事業者用入力シート（入力用）'!C3="","",'事業者用入力シート（入力用）'!C3)
K7: 代表者名 | N7: =IF('事業者用入力シート（入力用）'!C5="","",'事業者用入力シート（入力用）'!C5)
B10: =IF(区入力シート!B3="","【区入力シートにて事業名を入れてください】委託事業者応募申請書",区入力シート!B3&"委託事業者応募申請書") -> 練馬区公衆浴場活用事業委託事業者応募申請書
B13: =IF(区入力シート!B3="","【区入力シートにて事業名入れてください】委託について、下記のとおり応募します。 申請にあたり、【区入力シートにて事業名入れてください】委託事業者募集要領の参加資格に適合し、かつ、提出書類の記載事項に虚偽がないことを誓約します。"," "&区入力シート!B3&"委託について、下記のとおり応募します。 申請にあたり、"&区入力シート!B3&"委託事業者募集要領の参加資格に適合し、かつ、提出書類の記載事項に虚偽がないことを誓約します。") -> 練馬区公衆浴場活用事業委託について、下記のとおり応募します。 申請にあたり、練馬区公衆浴場活用事業委託事業者募集要領の参加資格に適合し、かつ、提出書類の記載事項に虚偽がないことを誓約します。
B15: 記
B17: 1 | D17: 添付書類
C18: (１) | E18: 事業者概要（様式５）
C19: (２) | E19: 受託実績等申告書（様式６）
C20: (３) | E20: 法人登記事項証明書
C21: (４) | E21: 法人税、消費税、法人事業税の納税証明書
C22: (５) | E22: 決算資料
C23: (６) | E23: 提案書（様式７）
C24: (７) | E24: 見積書（様式８）
K32: 【担当者連絡先】
K33: 所属 | M33: =IF('事業者用入力シート（入力用）'!C11="","",'事業者用入力シート（入力用）'!C11)
K34: 担当者名 | M34: =IF('事業者用入力シート（入力用）'!C13="","",'事業者用入力シート（入力用）'!C13)
K35: 電話番号 | M35: =IF('事業者用入力シート（入力用）'!C16="","",'事業者用入力シート（入力用）'!C16)
K36: 電子メール | M36: =IF('事業者用入力シート（入力用）'!C17="","",'事業者用入力シート（入力用）'!C17)

Sheet 様式５事業者概要
T1: =HYPERLINK("#目次!A1","←目次へ戻る") -> ←目次へ戻る
L2: 令和 | M2: =IF(様式４応募申請書!$P$2="","",様式４応募申請書!$P$2) | N2: 年 | O2: =IF(様式４応募申請書!$R$2="","",様式４応募申請書!$R$2) | P2: 月 | Q2: =IF(様式４応募申請書!$T$2="","",様式４応募申請書!$T$2) | R2: 日
B4: 事業者概要
B6: 事業者名 | F6: =IF('事業者用入力シート（入力用）'!C6="","",'事業者用入力シート（入力用）'!C6)
B7: 所在地 | F7: 〒 | G7: =IF('事業者用入力シート（入力用）'!C7="","",'事業者用入力シート（入力用）'!C7&" "&'事業者用入力シート（入力用）'!C8)
B8: 代表者名 | F8: =IF('事業者用入力シート（入力用）'!C10="","",'事業者用入力シート（入力用）'!C10)
B9: 設立年月日
B10: 資本金
B11: 従業員数
B12: 主たる業務分野 （専門分野）
B13: 応募理由
B14: 個人情報保護制度 | F14: 個人情報保護制度（規定）の有無 （ 有 | N14: □ | O14: ・ | P14: 無 | Q14: □ | R14: ）
F15: ※規定がある場合は、当該規定を添付してください。
B16: 法令遵守 | F16: ※具体的な取組をお書きください。
B17: その他特記事項
B18: ※ 適宜枠を広げてお使いください。

Sheet 様式６受託実績
AL1: =HYPERLINK("#目次!A1","←目次へ戻る") -> ←目次へ戻る
AD2: 令和 | AE2: =IF(様式４応募申請書!$P$2="","",様式４応募申請書!$P$2) | AF2: 年 | AG2: =IF(様式４応募申請書!$R$2="","",様式４応募申請書!$R$2) | AH2: 月 | AI2: =IF(様式４応募申請書!$T$2="","",様式４応募申請書!$T$2) | AJ2: 日
B4: =IF(区入力シート!B3="","【区入力シートにて事業名を入れてください】委託受託実績報告",区入力シート!B3&"受託実績報告") -> 練馬区公衆浴場活用事業受託実績報告
B6: 1 | C6: 類似事業の受託実績
C7: 契約年度 | G7: 契約件名 | M7: 業務概要 | AC7: 契約金額 | AG7: 委託者名（自治体名等）
C13: ※ ５年以内の実績を最大５件までご記入ください。複数ある場合は、直近の実績を優先してご記入ください。
C14: ※ 契約金額が単価契約の場合、年度の実績額（または見込額）をご記入ください。
C15: ※ 確認のため、契約書（写）の提示を求めることがあります。
B17: ２ | C17: 過去のトラブルへの対応状況
C18: １に記載した受託実績において、受託中に発生したトラブルの内容および対応状況についてご記入ください。
C19: トラブル内容 | S19: 対応内容
C26: ※ 本申告書記入に際して、枠が不足する場合は、適宜、枠を広げてください。
V27: 事業者所在地 | Z27: =IF('事業者用入力シート（入力用）'!C8="","",'事業者用入力シート（入力用）'!C8)
V29: 事業者名 | Z29: =IF('事業者用入力シート（入力用）'!C6="","",'事業者用入力シート（入力用）'!C6)
V30: 代表者職・氏名 | Z30: =IF('事業者用入力シート（入力用）'!C9="","",'事業者用入力シート（入力用）'!C9&" "&'事業者用入力シート（入力用）'!C10)

Sheet 様式７提案書
U1: =HYPERLINK("#目次!A1","←目次へ戻る") -> ←目次へ戻る
M2: 令和 | N2: =IF(様式４応募申請書!$P$2="","",様式４応募申請書!$P$2) | O2: 年 | P2: =IF(様式４応募申請書!$R$2="","",様式４応募申請書!$R$2) | Q2: 月 | R2: =IF(様式４応募申請書!$T$2="","",様式４応募申請書!$T$2) | S2: 日
A4: 提案書
B6: 事業者名 | D6: =IF('事業者用入力シート（入力用）'!C6="","",'事業者用入力シート（入力用）'!C6)
A8: １ | B8: 個人情報保護の取組について
B9: ア 個人情報保護および情報セキュリティ確保の取組
B11: イ 法令順守の取組
B13: ウ 利用者情報の管理方法等
A16: ２ | B16: 本事業の実施体制
B17: ア 事業の実施目的および現状を踏まえた事業運営の基本的な考え方
B19: イ 事業を円滑に実施するための実施体制および適正な人員配置 （専門職・有資格者の配置を含む。）
B21: ウ 従事職員の資質向上に向けた教育・研修体制等
A24: ３ | B24: 事業内容
B25: ア 事業目的の達成に向けた具体的な実施内容（具体的なプログラム）
B27: イ 指導方法、高齢者へ配慮する点（高齢者が理解し、行動に移せるための効果的なアドバイスの工夫等）
B29: ウ 利用者同士の交流が図れるような提案
B31: エ 介護予防の継続支援
B32: ➀ 主体的な健康管理・介護予防に取り組むための支援
B34: ➁ 教室終了後等における継続的な介護予防活動への支援
B36: オ 専門性等を活かした、事業者独自の工夫・提案
A39: ４ | B39: 利用者への対応
B40: ア 利用者ニーズの把握および事業への反映方法
B42: イ 利用者への公正・公平な対応
B44: ウ 従事者の接遇に関する取組
A47: ５ | B47: 安全管理
B48: ア 安全管理および事故防止に関する取組
B50: イ 感染症予防の対策および工夫
B52: ウ 災害その他緊急時の危機管理体制および事故発生時の対応
B54: エ 事故発生時等の区への報告体制
B56: オ 参加者の傷害保険および従事者の賠償責任保険の内容
A59: ６ | B59: 苦情対応
B60: ア 苦情解決体制
A63: ７ | B63: 地域との連携、区民雇用等の促進、地域貢献等
B64: ア 地域活動、関係機関、ボランティア等との連携および協働
B66: イ 区民雇用の促進
B68: ウ 物品等の区内事業者からの調達
B70: オ 地域貢献、社会貢献および環境配慮に関する取組

Sheet まとめ用【提案内容】
C2: 事業者名 | D2: =IF(様式７提案書!D6="","",様式７提案書!D6)
B3: =様式７提案書!A8 -> １ | C3: =様式７提案書!B8 -> 個人情報保護の取組について
C4: =様式７提案書!B9 -> ア 個人情報保護および情報セキュリティ確保の取組 | D4: =IF(様式７提案書!B10="","",様式７提案書!B10)
C5: =様式７提案書!B11 -> イ 法令順守の取組 | D5: =IF(様式７提案書!B12="","",様式７提案書!B12)
C6: =様式７提案書!B13 -> ウ 利用者情報の管理方法等 | D6: =IF(様式７提案書!B14="","",様式７提案書!B14)
B7: =様式７提案書!A16 -> ２ | C7: =様式７提案書!B16 -> 本事業の実施体制
C8: =様式７提案書!B17 -> ア 事業の実施目的および現状を踏まえた事業運営の基本的な考え方 | D8: =IF(様式７提案書!B18="","",様式７提案書!B18)
C9: =様式７提案書!B19 -> イ 事業を円滑に実施するための実施体制および適正な人員配置 （専門職・有資格者の配置を含む。） | D9: =IF(様式７提案書!B20="","",様式７提案書!B20)
C10: =様式７提案書!B21 -> ウ 従事職員の資質向上に向けた教育・研修体制等 | D10: =IF(様式７提案書!B22="","",様式７提案書!B22)
B11: =様式７提案書!A24 -> ３ | C11: =様式７提案書!B24 -> 事業内容
C12: =様式７提案書!B25 -> ア 事業目的の達成に向けた具体的な実施内容（具体的なプログラム） | D12: =IF(様式７提案書!B26="","",様式７提案書!B26)
C13: =様式７提案書!B27 -> イ 指導方法、高齢者へ配慮する点（高齢者が理解し、行動に移せるための効果的なアドバイスの工夫等） | D13: =IF(様式７提案書!B28="","",様式７提案書!B28)
C14: =様式７提案書!B29 -> ウ 利用者同士の交流が図れるような提案 | D14: =IF(様式７提案書!B30="","",様式７提案書!B30)
C15: =様式７提案書!B31 -> エ 介護予防の継続支援 | D15: =IF(様式７提案書!B33="","",様式７提案書!B33)
C16: =様式７提案書!B32 -> ➀ 主体的な健康管理・介護予防に取り組むための支援 | D16: =IF(様式７提案書!B33="","",様式７提案書!B33)
C17: =様式７提案書!B34 -> ➁ 教室終了後等における継続的な介護予防活動への支援 | D17: =IF(様式７提案書!B35="","",様式７提案書!B35)
C18: =様式７提案書!B36 -> オ 専門性等を活かした、事業者独自の工夫・提案 | D18: =IF(様式７提案書!B37="","",様式７提案書!B37)
B19: =様式７提案書!A39 -> ４ | C19: =様式７提案書!B39 -> 利用者への対応
C20: =様式７提案書!B40 -> ア 利用者ニーズの把握および事業への反映方法 | D20: =IF(様式７提案書!B41="","",様式７提案書!B41)
C21: =様式７提案書!B42 -> イ 利用者への公正・公平な対応 | D21: =IF(様式７提案書!B43="","",様式７提案書!B43)
C22: =様式７提案書!B44 -> ウ 従事者の接遇に関する取組 | D22: =IF(様式７提案書!B45="","",様式７提案書!B45)
B23: =様式７提案書!A47 -> ５ | C23: =様式７提案書!B47 -> 安全管理
C24: =様式７提案書!B48 -> ア 安全管理および事故防止に関する取組 | D24: =IF(様式７提案書!B49="","",様式７提案書!B49)
C25: =様式７提案書!B50 -> イ 感染症予防の対策および工夫 | D25: =IF(様式７提案書!B51="","",様式７提案書!B51)
C26: =様式７提案書!B52 -> ウ 災害その他緊急時の危機管理体制および事故発生時の対応 | D26: =IF(様式７提案書!B53="","",様式７提案書!B53)
C27: =様式７提案書!B54 -> エ 事故発生時等の区への報告体制 | D27: =IF(様式７提案書!B55="","",様式７提案書!B55)
C28: =様式７提案書!B56 -> オ 参加者の傷害保険および従事者の賠償責任保険の内容 | D28: =IF(様式７提案書!B57="","",様式７提案書!B57)
B29: =様式７提案書!A59 -> ６ | C29: =様式７提案書!B59 -> 苦情対応
C30: =様式７提案書!B60 -> ア 苦情解決体制 | D30: =IF(様式７提案書!B61="","",様式７提案書!B61)
B31: =様式７提案書!A63 -> ７ | C31: =様式７提案書!B63 -> 地域との連携、区民雇用等の促進、地域貢献等
C32: =様式７提案書!B64 -> ア 地域活動、関係機関、ボランティア等との連携および協働 | D32: =IF(様式７提案書!B65="","",様式７提案書!B65)
C33: =様式７提案書!B66 -> イ 区民雇用の促進 | D33: =IF(様式７提案書!B67="","",様式７提案書!B67)
C34: =様式７提案書!B68 -> ウ 物品等の区内事業者からの調達 | D34: =IF(様式７提案書!B69="","",様式７提案書!B69)
C35: =様式７提案書!B70 -> オ 地域貢献、社会貢献および環境配慮に関する取組 | D35: =IF(様式７提案書!B71="","",様式７提案書!B71)

Sheet 様式８実施体制
U1: =HYPERLINK("#目次!A1","←目次へ戻る") -> ←目次へ戻る
M2: 令和 | N2: =IF(様式４応募申請書!$P$2="","",様式４応募申請書!$P$2) | O2: 年 | P2: =IF(様式４応募申請書!$R$2="","",様式４応募申請書!$R$2) | Q2: 月 | R2: =IF(様式４応募申請書!$T$2="","",様式４応募申請書!$T$2) | S2: 日
A4: 本業務の実施体制
B6: 事業者名 | D6: =IF('事業者用入力シート（入力用）'!C6="","",'事業者用入力シート（入力用）'!C6)
A8: １ | B8: 本業務の人員構成
B9: ・ 本業務を担当する全人員を記載してください。個人名は不要です。
B10: ・ (例)は、提出時には削除してください。
D11: 職種（資格） | J11: 担当業務内容
B12: 従事者
A21: ２ | B21: 練馬区民の従事予定人数
B22: １で記載した従事者のうち、練馬区民の人数を記載してください。
B23: 練馬区民の人数 | G23: 計 | K23: 人
A25: ３ | B25: １回の人員配置
B26: １回に配置する人員について記載してください。
D27: 職種（資格） | J27: 人数
B28: 従事者 | J28: 計 | N28: 人
A34: ※ 適宜枠を広げてお使いください。

Sheet 様式９見積書
T1: =HYPERLINK("#目次!A1","←目次へ戻る") -> ←目次へ戻る
K2: 令和 | L2: =IF(様式４応募申請書!$P$2="","",様式４応募申請書!$P$2) | M2: 年 | N2: =IF(様式４応募申請書!$R$2="","",様式４応募申請書!$R$2) | O2: 月 | P2: =IF(様式４応募申請書!$T$2="","",様式４応募申請書!$T$2) | Q2: 日
A4: =IF(区入力シート!B2="","【区入力シートで年度等を入力してください】見積書",区入力シート!B2&区入力シート!B3&" "&"見積書") -> 令和９年度練馬区公衆浴場活用事業 見積書
H6: 住所 | J6: =IF('事業者用入力シート（入力用）'!C8="","",'事業者用入力シート（入力用）'!C8)
H7: 事業者名 | J7: =IF('事業者用入力シート（入力用）'!C6="","",'事業者用入力シート（入力用）'!C6)
H8: 代表者職・氏名 | L8: =IF(様式１参加表明届!F11="","",様式１参加表明届!F11)
H9: 担当者所属・氏名 | L9: =IF(様式１参加表明届!F12="","",様式１参加表明届!F12)
H10: 連絡先 | J10: =IF('事業者用入力シート（入力用）'!C16="","",'事業者用入力シート（入力用）'!C16)
B12: 事業運営費（単価） | L12: ※色のついたセルに入力してください
B13: 項目 | L13: 金額（税抜き）
B14: 内訳 | D14: 人件費 | Q14: 円
D15: プログラム準備費 | Q15: 円
D16: 事務管理費 | Q16: 円
D17: 利用者の保険料 | Q17: 円
D18: その他 | Q18: 円
Q19: 円
Q20: 円
Q21: 円
B23: =IF(区入力シート!B2="","【区入力シートで年度等を入力してください】実施予定回数",区入力シート!B2&"実施予定回数") -> 令和９年度実施予定回数 | H23: 回 | I23: × | J23: 事業運営費（1回あたり）＝
J24: 税抜き | L24: =IF(G23="","",G23*(SUM(L14:P21))) | Q24: 円
J25: 税込み | L25: =IF(G23="","",G23*(SUM(L14:P21))*1.1) | Q25: 円
B26: ※ 会場使用料相当については、記載不要。
B27: ※ その他に記載する際は、詳細な内容を記入すること。
B28: ※ 枠が不足する場合は、適宜枠を増やしてかまわない。
